BEGIN:VCALENDAR
VERSION:2.0
PRODID:-//ACOM - ECPv4.8.1//NONSGML v1.0//EN
CALSCALE:GREGORIAN
METHOD:PUBLISH
X-WR-CALNAME:ACOM
X-ORIGINAL-URL:https://acom.edu.au
X-WR-CALDESC:Events for ACOM
BEGIN:VEVENT
DTSTART;TZID=Australia/Sydney:20191024T090000
DTEND;TZID=Australia/Sydney:20191026T160000
DTSTAMP:20190228T151922
CREATED:20181221T034940Z
LAST-MODIFIED:20190215T042828Z
UID:3225-1571907600-1572105600@acom.edu.au
SUMMARY:2019 Formation Gathering with James Bryant Smith
DESCRIPTION:This annual hub focuses on both personal and community transformation by exploring how the process of being formed in the image of Christ\, for the sake of others\, actually happens. Be inspired and equipped as you meet thought leaders\, connect with innovative practitioners and participate in an intentional community passionate about transformation. The Gathering has two parts: \nChristian Leader’s Facilitation Day\nThursday 24 October 9am – 4.00pm\nGet up close and personal with James Bryan Smith as he invites Christian leaders to\nexplore the science of facilitating spiritual growth and formation in the lives of others. \nFormation Gathering\nFriday 25 October – Saturday 26 October\n9am – 4.00pm each day\nThe Formation Gathering is a strategic event for Christian disciples and leaders who understand that who we are affects everything we do. The best gift any of us have to offer is our transforming selves. This annual hub focuses on both personal and community transformation through exploring how the process of being formed in the image of Christ for the sake of others actually happens. Be inspired and equipped as you meet thought leaders\, connect with innovative practitioners and participate in an intentional community passionate about transformation. \nKeynote Speaker: James Bryan Smith\nOther Speakers: Sarah Deutscher\, John Robinson and Andrew Ranucci. \nDownload the Formation Gathering brochure here \n
URL:https://acom.edu.au/event/2019-formation-gathering/
LOCATION:Northside Community Church\, Oxley St & Pole Ln\, Crows Nest\, NSW\, 2065\, Australia
CATEGORIES:Homepage,Public Events,Student Events
ATTACH;FMTTYPE=image/jpeg:https://acom.edu.au/wp-content/uploads/2018/12/ACOM_FORMATION-GATHERING-Title.jpg
ORGANIZER;CN="ACOM":MAILTO: info@acom.edu.au
END:VEVENT
END:VCALENDAR