BEGIN:VCALENDAR
VERSION:2.0
PRODID:-//ACOM - ECPv4.8.2//NONSGML v1.0//EN
CALSCALE:GREGORIAN
METHOD:PUBLISH
X-WR-CALNAME:ACOM
X-ORIGINAL-URL:https://acom.edu.au
X-WR-CALDESC:Events for ACOM
BEGIN:VEVENT
DTSTART;TZID=Australia/Sydney:20210310T090000
DTEND;TZID=Australia/Sydney:20210310T170000
DTSTAMP:20210226T092419
CREATED:20201029T033638Z
LAST-MODIFIED:20201103T042901Z
UID:5519-1615366800-1615395600@acom.edu.au
SUMMARY:THE PERSON AND WORK OF CHRIST ONLINE FACILITATION
DESCRIPTION:This facilitation is designed to provide students with an understanding of the person and saving work of Jesus Christ. It seeks to explore this understanding in the light of contemporary Christian thought and life. \nNote that online facilitation will run between 9am – 5pm\, unless otherwise specified. Participants will be provided with the Zoom link prior to the start of facilitation. \nFacilitation dates will be on: \n/Wednesday 10th March 2021 \n/Tuesday 30th March 2021   \n/Wednesday 14th April 2021 \nFacilitated by Associate Professor Laughlin \n \n
URL:https://acom.edu.au/event/the-person-and-work-of-christ-online-facilitation/
LOCATION:Online\, Australia
CATEGORIES:Homepage,Public Events,Student Events
ATTACH;FMTTYPE=image/jpeg:https://acom.edu.au/wp-content/uploads/2020/10/The-Person-and-Work-of-Christ.jpg
ORGANIZER;CN="ACOM":MAILTO: info@acom.edu.au
END:VEVENT
END:VCALENDAR